BEGIN:VCALENDAR
VERSION:2.0
PRODID:spatie/icalendar-generator
DESCRIPTION:Events from Hrachovec
X-WR-CALDESC:Events from Hrachovec
REFRESH-INTERVAL;VALUE=DURATION:PT1440M
X-PUBLISHED-TTL:PT1440M
BEGIN:VTIMEZONE
TZID:Europe/Prague
BEGIN:DAYLIGHT
DTSTART:20230326T020000Z
TZOFFSETFROM:+0100
TZOFFSETTO:+0200
END:DAYLIGHT
BEGIN:STANDARD
DTSTART:20231029T030000Z
TZOFFSETFROM:+0200
TZOFFSETTO:+0100
END:STANDARD
BEGIN:DAYLIGHT
DTSTART:20240331T020000Z
TZOFFSETFROM:+0100
TZOFFSETTO:+0200
END:DAYLIGHT
END:VTIMEZONE
BEGIN:VTIMEZONE
TZID:UTC
BEGIN:STANDARD
DTSTART:20250729T215833Z
TZOFFSETFROM:+0000
TZOFFSETTO:+0000
END:STANDARD
END:VTIMEZONE
BEGIN:VEVENT
UID:37-9
DTSTAMP:20260425T215833Z
SUMMARY:Zkouška obecního rozhlasu
LOCATION:
ORGANIZER;CN=administrátor:MAILTO:vladislav.tucek@gmail.com
DTSTART;TZID=Europe/Prague:20231004T170000
DTEND;TZID=Europe/Prague:20231004T180000
X-ALT-DESC;FMTTYPE=TEXT/HTML:Upozorňujeme obyvatele Hrachovce\, že dnes\,
  tj. ve středu 4.10.2023\, proběhne od 17:00 do 18:00 zkouška obecního
  rozhlasu.
CATEGORIES:Obecní událost
URL;VALUE=URI:https://hrachovec.valmez.cz/?mc-events=zkouska-obecniho-rozhl
 asu
METHOD:PUBLISH
END:VEVENT
END:VCALENDAR