BEGIN:VCALENDAR
VERSION:2.0
PRODID:spatie/icalendar-generator
DESCRIPTION:Events from Hrachovec
X-WR-CALDESC:Events from Hrachovec
REFRESH-INTERVAL;VALUE=DURATION:PT1440M
X-PUBLISHED-TTL:PT1440M
BEGIN:VTIMEZONE
TZID:Europe/Prague
BEGIN:STANDARD
DTSTART:20251026T030000Z
TZOFFSETFROM:+0200
TZOFFSETTO:+0100
END:STANDARD
BEGIN:DAYLIGHT
DTSTART:20260329T020000Z
TZOFFSETFROM:+0100
TZOFFSETTO:+0200
END:DAYLIGHT
BEGIN:STANDARD
DTSTART:20261025T030000Z
TZOFFSETFROM:+0200
TZOFFSETTO:+0100
END:STANDARD
END:VTIMEZONE
BEGIN:VTIMEZONE
TZID:UTC
BEGIN:STANDARD
DTSTART:20250729T155140Z
TZOFFSETFROM:+0000
TZOFFSETTO:+0000
END:STANDARD
END:VTIMEZONE
BEGIN:VEVENT
UID:479-2
DTSTAMP:20260425T155140Z
SUMMARY:Sraz dříve narozených spoluobyvatelů Hrachovce
LOCATION:Kulturní dům Hrachovec Hrachovec 200  Valašské Meziříčí Č
 eská republika 75701
ORGANIZER;CN=administrátor:MAILTO:vladislav.tucek@gmail.com
RRULE:FREQ=MONTHLY;BYDAY=1WE;UNTIL=20341206T000000Z
DTSTART;TZID=Europe/Prague:20260506T170000
DTEND;TZID=Europe/Prague:20260506T180000
X-ALT-DESC;FMTTYPE=TEXT/HTML:
CATEGORIES:Sraz dřive narozených
URL;VALUE=URI:https://hrachovec.valmez.cz/?mc-events=sraz-drive-narozenych-
 spoluobyvatelu-hrachovce&amp;mc_id=479
METHOD:PUBLISH
END:VEVENT
END:VCALENDAR