BEGIN:VCALENDAR
VERSION:2.0
PRODID:spatie/icalendar-generator
DESCRIPTION:Events from Hrachovec
X-WR-CALDESC:Events from Hrachovec
REFRESH-INTERVAL;VALUE=DURATION:PT1440M
X-PUBLISHED-TTL:PT1440M
BEGIN:VTIMEZONE
TZID:Europe/Prague
BEGIN:DAYLIGHT
DTSTART:20250330T020000Z
TZOFFSETFROM:+0100
TZOFFSETTO:+0200
END:DAYLIGHT
BEGIN:STANDARD
DTSTART:20251026T030000Z
TZOFFSETFROM:+0200
TZOFFSETTO:+0100
END:STANDARD
BEGIN:DAYLIGHT
DTSTART:20260329T020000Z
TZOFFSETFROM:+0100
TZOFFSETTO:+0200
END:DAYLIGHT
END:VTIMEZONE
BEGIN:VTIMEZONE
TZID:UTC
BEGIN:STANDARD
DTSTART:20250730T012132Z
TZOFFSETFROM:+0000
TZOFFSETTO:+0000
END:STANDARD
END:VTIMEZONE
BEGIN:VEVENT
UID:244-59
DTSTAMP:20260426T012132Z
SUMMARY:Rozsvícení vánočního stromu
LOCATION:Kulturní dům Hrachovec Hrachovec 200  Valašské Meziříčí Č
 eská republika 75701
ORGANIZER;CN=administrátor:MAILTO:vladislav.tucek@gmail.com
DTSTART;TZID=Europe/Prague:20251206T160000
DTEND;TZID=Europe/Prague:20251206T170000
X-ALT-DESC;FMTTYPE=TEXT/HTML:
CATEGORIES:Akce
URL;VALUE=URI:https://hrachovec.valmez.cz/?mc-events=rozsviceni-vanocniho-s
 tromu
METHOD:PUBLISH
END:VEVENT
END:VCALENDAR