BEGIN:VCALENDAR
VERSION:2.0
PRODID:spatie/icalendar-generator
DESCRIPTION:Events from Hrachovec
X-WR-CALDESC:Events from Hrachovec
REFRESH-INTERVAL;VALUE=DURATION:PT1440M
X-PUBLISHED-TTL:PT1440M
BEGIN:VTIMEZONE
TZID:Europe/Prague
BEGIN:DAYLIGHT
DTSTART:20230326T020000Z
TZOFFSETFROM:+0100
TZOFFSETTO:+0200
END:DAYLIGHT
BEGIN:STANDARD
DTSTART:20231029T030000Z
TZOFFSETFROM:+0200
TZOFFSETTO:+0100
END:STANDARD
END:VTIMEZONE
BEGIN:VTIMEZONE
TZID:UTC
BEGIN:STANDARD
DTSTART:20250729T204156Z
TZOFFSETFROM:+0000
TZOFFSETTO:+0000
END:STANDARD
END:VTIMEZONE
BEGIN:VEVENT
UID:34-6
DTSTAMP:20260425T204156Z
SUMMARY:Promítání pohádky \"Největší dar\"
LOCATION:Hasičská chata Hrachovec 40  Valašské Meziříčí Česká rep
 ublika 75701
ORGANIZER;CN=administrátor:MAILTO:vladislav.tucek@gmail.com
DTSTART;TZID=Europe/Prague:20230902T203000
DTEND;TZID=Europe/Prague:20230902T213000
X-ALT-DESC;FMTTYPE=TEXT/HTML:
CATEGORIES:Akce
URL;VALUE=URI:https://hrachovec.valmez.cz/?mc-events=promitani-pohadky-nejv
 etsi-dar
METHOD:PUBLISH
END:VEVENT
END:VCALENDAR