BEGIN:VCALENDAR
VERSION:2.0
PRODID:spatie/icalendar-generator
DESCRIPTION:Events from Hrachovec
X-WR-CALDESC:Events from Hrachovec
REFRESH-INTERVAL;VALUE=DURATION:PT1440M
X-PUBLISHED-TTL:PT1440M
BEGIN:VTIMEZONE
TZID:Europe/Prague
BEGIN:STANDARD
DTSTART:20231029T030000Z
TZOFFSETFROM:+0200
TZOFFSETTO:+0100
END:STANDARD
BEGIN:DAYLIGHT
DTSTART:20240331T020000Z
TZOFFSETFROM:+0100
TZOFFSETTO:+0200
END:DAYLIGHT
END:VTIMEZONE
BEGIN:VTIMEZONE
TZID:UTC
BEGIN:STANDARD
DTSTART:20250730T030738Z
TZOFFSETFROM:+0000
TZOFFSETTO:+0000
END:STANDARD
END:VTIMEZONE
BEGIN:VEVENT
UID:62-20
DTSTAMP:20260426T030738Z
SUMMARY:Předprodej vstupenek na Retro ples
LOCATION:Kulturní dům Hrachovec Hrachovec 200  Valašské Meziříčí Č
 eská republika 75701
ORGANIZER;CN=administrátor:MAILTO:vladislav.tucek@gmail.com
RRULE:FREQ=WEEKLY;UNTIL=20240223T000000Z
DTSTART;TZID=Europe/Prague:20240216T180000
DTEND;TZID=Europe/Prague:20240216T190000
X-ALT-DESC;FMTTYPE=TEXT/HTML:Cena vstupenky 250Kč Předprodej vstupenek od
  18:00 v KD Hrachovec
CATEGORIES:Akce
URL;VALUE=URI:https://hrachovec.valmez.cz/?mc-events=predprodej-vstupenek-n
 a-retro-ples&amp;mc_id=62
METHOD:PUBLISH
END:VEVENT
END:VCALENDAR