BEGIN:VCALENDAR
VERSION:2.0
PRODID:spatie/icalendar-generator
DESCRIPTION:Events from Hrachovec
X-WR-CALDESC:Events from Hrachovec
REFRESH-INTERVAL;VALUE=DURATION:PT1440M
X-PUBLISHED-TTL:PT1440M
BEGIN:VTIMEZONE
TZID:Europe/Prague
BEGIN:DAYLIGHT
DTSTART:20230326T020000Z
TZOFFSETFROM:+0100
TZOFFSETTO:+0200
END:DAYLIGHT
BEGIN:STANDARD
DTSTART:20231029T030000Z
TZOFFSETFROM:+0200
TZOFFSETTO:+0100
END:STANDARD
BEGIN:DAYLIGHT
DTSTART:20240331T020000Z
TZOFFSETFROM:+0100
TZOFFSETTO:+0200
END:DAYLIGHT
END:VTIMEZONE
BEGIN:VTIMEZONE
TZID:UTC
BEGIN:STANDARD
DTSTART:20250730T000543Z
TZOFFSETFROM:+0000
TZOFFSETTO:+0000
END:STANDARD
END:VTIMEZONE
BEGIN:VEVENT
UID:31-4
DTSTAMP:20260426T000543Z
SUMMARY:Oslava 50let Kulturního domu v Hrachovci
LOCATION:Kulturní dům Hrachovec Hrachovec 200  Valašské Meziříčí Č
 eská republika 75701
ORGANIZER;CN=administrátor:MAILTO:vladislav.tucek@gmail.com
DTSTART;TZID=Europe/Prague:20231028T133000
DTEND;TZID=Europe/Prague:20231028T140000
X-ALT-DESC;FMTTYPE=TEXT/HTML:
CATEGORIES:Akce
URL;VALUE=URI:https://hrachovec.valmez.cz/?mc-events=oslava-50let-kulturnih
 o-domu-v-hrachovci
METHOD:PUBLISH
END:VEVENT
END:VCALENDAR