BEGIN:VCALENDAR
VERSION:2.0
PRODID:spatie/icalendar-generator
DESCRIPTION:Events from Hrachovec
X-WR-CALDESC:Events from Hrachovec
REFRESH-INTERVAL;VALUE=DURATION:PT1440M
X-PUBLISHED-TTL:PT1440M
BEGIN:VTIMEZONE
TZID:Europe/Prague
BEGIN:DAYLIGHT
DTSTART:20230326T020000Z
TZOFFSETFROM:+0100
TZOFFSETTO:+0200
END:DAYLIGHT
BEGIN:STANDARD
DTSTART:20231029T030000Z
TZOFFSETFROM:+0200
TZOFFSETTO:+0100
END:STANDARD
BEGIN:DAYLIGHT
DTSTART:20240331T020000Z
TZOFFSETFROM:+0100
TZOFFSETTO:+0200
END:DAYLIGHT
END:VTIMEZONE
BEGIN:VTIMEZONE
TZID:UTC
BEGIN:STANDARD
DTSTART:20250729T203435Z
TZOFFSETFROM:+0000
TZOFFSETTO:+0000
END:STANDARD
END:VTIMEZONE
BEGIN:VEVENT
UID:38-10
DTSTAMP:20260425T203435Z
SUMMARY:Kontejner na nebezpečný odpad
LOCATION:Kulturní dům Hrachovec Hrachovec 200  Valašské Meziříčí Č
 eská republika 75701
ORGANIZER;CN=administrátor:MAILTO:vladislav.tucek@gmail.com
DTSTART;TZID=Europe/Prague:20231011T090000
DTEND;TZID=Europe/Prague:20231011T160000
X-ALT-DESC;FMTTYPE=TEXT/HTML:
CATEGORIES:Obecní událost
URL;VALUE=URI:https://hrachovec.valmez.cz/?mc-events=kontejner-na-nebezpecn
 y-odpad
METHOD:PUBLISH
END:VEVENT
END:VCALENDAR