BEGIN:VCALENDAR
VERSION:2.0
PRODID:spatie/icalendar-generator
DESCRIPTION:Events from Hrachovec
X-WR-CALDESC:Events from Hrachovec
REFRESH-INTERVAL;VALUE=DURATION:PT1440M
X-PUBLISHED-TTL:PT1440M
BEGIN:VTIMEZONE
TZID:Europe/Prague
BEGIN:STANDARD
DTSTART:20251026T030000Z
TZOFFSETFROM:+0200
TZOFFSETTO:+0100
END:STANDARD
BEGIN:DAYLIGHT
DTSTART:20260329T020000Z
TZOFFSETFROM:+0100
TZOFFSETTO:+0200
END:DAYLIGHT
BEGIN:STANDARD
DTSTART:20261025T030000Z
TZOFFSETFROM:+0200
TZOFFSETTO:+0100
END:STANDARD
END:VTIMEZONE
BEGIN:VTIMEZONE
TZID:UTC
BEGIN:STANDARD
DTSTART:20250729T185218Z
TZOFFSETFROM:+0000
TZOFFSETTO:+0000
END:STANDARD
END:VTIMEZONE
BEGIN:VEVENT
UID:323-23
DTSTAMP:20260425T185218Z
SUMMARY:komunální odpad
LOCATION:
ORGANIZER;CN=administrátor:MAILTO:vladislav.tucek@gmail.com
RRULE:FREQ=WEEKLY;INTERVAL=2;UNTIL=20261231T000000Z
DTSTART;TZID=Europe/Prague;VALUE=DATE:20260507
DTEND;TZID=Europe/Prague;VALUE=DATE:20260508
X-ALT-DESC;FMTTYPE=TEXT/HTML:
CATEGORIES:komunal
URL;VALUE=URI:https://hrachovec.valmez.cz/?mc-events=komunalni-odpad&amp;mc_id=
 323
METHOD:PUBLISH
END:VEVENT
END:VCALENDAR