BEGIN:VCALENDAR
VERSION:2.0
PRODID:spatie/icalendar-generator
DESCRIPTION:Events from Hrachovec
X-WR-CALDESC:Events from Hrachovec
REFRESH-INTERVAL;VALUE=DURATION:PT1440M
X-PUBLISHED-TTL:PT1440M
BEGIN:VTIMEZONE
TZID:Europe/Prague
BEGIN:STANDARD
DTSTART:20221030T030000Z
TZOFFSETFROM:+0200
TZOFFSETTO:+0100
END:STANDARD
BEGIN:DAYLIGHT
DTSTART:20230326T020000Z
TZOFFSETFROM:+0100
TZOFFSETTO:+0200
END:DAYLIGHT
BEGIN:STANDARD
DTSTART:20231029T030000Z
TZOFFSETFROM:+0200
TZOFFSETTO:+0100
END:STANDARD
END:VTIMEZONE
BEGIN:VTIMEZONE
TZID:UTC
BEGIN:STANDARD
DTSTART:20250730T000831Z
TZOFFSETFROM:+0000
TZOFFSETTO:+0000
END:STANDARD
END:VTIMEZONE
BEGIN:VEVENT
UID:35-7
DTSTAMP:20260426T000831Z
SUMMARY:Jánské ohně 2023
LOCATION:Hasičská chata Hrachovec 40  Valašské Meziříčí Česká rep
 ublika 75701
ORGANIZER;CN=administrátor:MAILTO:vladislav.tucek@gmail.com
DTSTART;TZID=Europe/Prague:20230623T170000
DTEND;TZID=Europe/Prague:20230623T180000
X-ALT-DESC;FMTTYPE=TEXT/HTML:Rádi bychom Vás pozvali na akci s názvem \"
 Jánské ohně\"\, jejíž nultý (a úspěšný) ročník se uskutečnil 
 v minulém roce. Letos bychom rádi vatru  zapalovali před ještě vět
 ším publikem. Tomu nahrává i příznivé datum\, protože akce se bude
  konat z pátku na sobotu. Poznamenejte si proto datum 23.6.2023 do svých
  diářů a kalendářůjako den\, kdy se&amp;hellip\;
CATEGORIES:Akce
URL;VALUE=URI:https://hrachovec.valmez.cz/?mc-events=janske-ohne-2023
METHOD:PUBLISH
END:VEVENT
END:VCALENDAR