BEGIN:VCALENDAR
VERSION:2.0
PRODID:spatie/icalendar-generator
DESCRIPTION:Events from Hrachovec
X-WR-CALDESC:Events from Hrachovec
REFRESH-INTERVAL;VALUE=DURATION:PT1440M
X-PUBLISHED-TTL:PT1440M
BEGIN:VTIMEZONE
TZID:Europe/Prague
BEGIN:STANDARD
DTSTART:20251026T030000Z
TZOFFSETFROM:+0200
TZOFFSETTO:+0100
END:STANDARD
BEGIN:DAYLIGHT
DTSTART:20260329T020000Z
TZOFFSETFROM:+0100
TZOFFSETTO:+0200
END:DAYLIGHT
END:VTIMEZONE
BEGIN:VTIMEZONE
TZID:UTC
BEGIN:STANDARD
DTSTART:20250730T011620Z
TZOFFSETFROM:+0000
TZOFFSETTO:+0000
END:STANDARD
END:VTIMEZONE
BEGIN:VEVENT
UID:426-26
DTSTAMP:20260426T011620Z
SUMMARY:bio odpad
LOCATION:
ORGANIZER;CN=administrátor:MAILTO:vladislav.tucek@gmail.com
RRULE:FREQ=WEEKLY;INTERVAL=4;UNTIL=20260320T000000Z
DTSTART;TZID=Europe/Prague;VALUE=DATE:20260320
DTEND;TZID=Europe/Prague;VALUE=DATE:20260321
X-ALT-DESC;FMTTYPE=TEXT/HTML:
CATEGORIES:bio odpad
URL;VALUE=URI:https://hrachovec.valmez.cz/?mc-events=bio-odpad&amp;mc_id=426
METHOD:PUBLISH
END:VEVENT
END:VCALENDAR